
BEGIN:VCALENDAR
VERSION:2.0
PRODID:-//Waverley District Netball Association - ECPv4.9.12//NONSGML v1.0//EN
CALSCALE:GREGORIAN
METHOD:PUBLISH
X-WR-CALNAME:Waverley District Netball Association
X-ORIGINAL-URL:https://www.wdna.com.au
X-WR-CALDESC:Events for Waverley District Netball Association
BEGIN:VTIMEZONE
TZID:UTC
BEGIN:STANDARD
TZOFFSETFROM:+0000
TZOFFSETTO:+0000
TZNAME:UTC
DTSTART:20190101T000000
END:STANDARD
END:VTIMEZONE
BEGIN:VEVENT
DTSTART;TZID=UTC:20190803T080000
DTEND;TZID=UTC:20190803T170000
DTSTAMP:20260423T152527
CREATED:20190129T132220Z
LAST-MODIFIED:20190129T132220Z
UID:5114-1564819200-1564851600@www.wdna.com.au
SUMMARY:Winter Semi Final
DESCRIPTION:
URL:https://www.wdna.com.au/event/winter-semi-final/
CATEGORIES:WDNA
END:VEVENT
END:VCALENDAR