
BEGIN:VCALENDAR
VERSION:2.0
PRODID:-//Waverley District Netball Association - ECPv4.9.12//NONSGML v1.0//EN
CALSCALE:GREGORIAN
METHOD:PUBLISH
X-WR-CALNAME:Waverley District Netball Association
X-ORIGINAL-URL:https://www.wdna.com.au
X-WR-CALDESC:Events for Waverley District Netball Association
BEGIN:VTIMEZONE
TZID:UTC
BEGIN:STANDARD
TZOFFSETFROM:+0000
TZOFFSETTO:+0000
TZNAME:UTC
DTSTART:20190101T000000
END:STANDARD
END:VTIMEZONE
BEGIN:VEVENT
DTSTART;TZID=UTC:20190406T080000
DTEND;TZID=UTC:20190406T170000
DTSTAMP:20260423T150626
CREATED:20190129T131443Z
LAST-MODIFIED:20190129T131443Z
UID:5093-1554537600-1554570000@www.wdna.com.au
SUMMARY:Winter Rd 6
DESCRIPTION:
URL:https://www.wdna.com.au/event/winter-rd-6/
CATEGORIES:WDNA
END:VEVENT
END:VCALENDAR