
BEGIN:VCALENDAR
VERSION:2.0
PRODID:-//Waverley District Netball Association - ECPv4.9.12//NONSGML v1.0//EN
CALSCALE:GREGORIAN
METHOD:PUBLISH
X-WR-CALNAME:Waverley District Netball Association
X-ORIGINAL-URL:https://www.wdna.com.au
X-WR-CALDESC:Events for Waverley District Netball Association
BEGIN:VTIMEZONE
TZID:UTC
BEGIN:STANDARD
TZOFFSETFROM:+0000
TZOFFSETTO:+0000
TZNAME:UTC
DTSTART:20190101T000000
END:STANDARD
END:VTIMEZONE
BEGIN:VEVENT
DTSTART;TZID=UTC:20190909T080000
DTEND;TZID=UTC:20190909T170000
DTSTAMP:20260424T223537
CREATED:20190201T163044Z
LAST-MODIFIED:20190201T163044Z
UID:5240-1568016000-1568048400@www.wdna.com.au
SUMMARY:Regrading requests due by 7pm
DESCRIPTION:
URL:https://www.wdna.com.au/event/regrading-requests-due-by-7pm-2/
CATEGORIES:WDNA
END:VEVENT
END:VCALENDAR